BEGIN:VCALENDAR
VERSION:2.0
PRODID:icalendar-ruby
CALSCALE:GREGORIAN
METHOD:PUBLISH
BEGIN:VEVENT
DTSTAMP:20260423T115144Z
UID:7-491030@gracehouse.info
DTSTART:20260802T150000Z
DTEND:20260802T170000Z
CLASS:PUBLIC
CREATED:20260423T054046
DESCRIPTION:"But a time is coming\, and even now has arrived\, when the tru
 e worshipers will worship the Father in spirit and thruth\; for such peopl
 e the Father seeks to be His worshipers." John 4:23
LAST-MODIFIED:20260423T054046
LOCATION:@Grace House
SUMMARY:Sunday Worship
URL;VALUE=URI:https://www.gracehouse.info/events/sunday-worship/2026-08-02
ATTACH;FILENAME=1C6A9760.JPG;FMTTYPE=image/jpeg:https://dq5pwpg1q8ru0.cloud
 front.net/2026/04/05/18/02/40/b1788530-8d1c-4ec0-9b54-857eee785654/1C6A976
 0.JPG
END:VEVENT
END:VCALENDAR
